BEGIN:VCALENDAR
VERSION:2.0
PRODID:-//Easy Dogs - ECPv6.8.2.1//NONSGML v1.0//EN
CALSCALE:GREGORIAN
METHOD:PUBLISH
X-WR-CALNAME:Easy Dogs
X-ORIGINAL-URL:https://www.easy-dogs.net
X-WR-CALDESC:Veranstaltungen für Easy Dogs
REFRESH-INTERVAL;VALUE=DURATION:PT1H
X-Robots-Tag:noindex
X-PUBLISHED-TTL:PT1H
BEGIN:VTIMEZONE
TZID:Europe/Berlin
BEGIN:DAYLIGHT
TZOFFSETFROM:+0100
TZOFFSETTO:+0200
TZNAME:CEST
DTSTART:20260329T010000
END:DAYLIGHT
BEGIN:STANDARD
TZOFFSETFROM:+0200
TZOFFSETTO:+0100
TZNAME:CET
DTSTART:20261025T010000
END:STANDARD
END:VTIMEZONE
BEGIN:VEVENT
DTSTART;TZID=Europe/Berlin:20260423T183000
DTEND;TZID=Europe/Berlin:20260423T213000
DTSTAMP:20260423T120032
CREATED:20251007T090749Z
LAST-MODIFIED:20251020T121011Z
UID:10000724-1776969000-1776979800@www.easy-dogs.net
SUMMARY:Sozialkompetenz: Hundebegegnungen gelassen & selbstwirksam meistern
DESCRIPTION:LIVE-WEBINAR (mit Aufzeichnung)\nHundebegegnungen sind und bleiben das Thema Nr. 1\, das den Alltag mit dem Hund und insbesondere jeden einzelnen Spaziergang zur Herausforderung werden lässt. Spätestens seit Corona haben wir eine deutlich höhere Hundedichte\, aber auch die Vorstellungen davon\, wie eine gute Hundebegegnung aussieht\, gehen weit auseinander. Von freilaufenden Der-tut-nixen\, über “Das machen die untereinander aus!”\, bis hin zum Sprung ins nächste Gebüsch\, um nur ja keine direkte Begegnung erleben zu müssen\, ist alles dabei.  \nUnd nichts davon fördert die Sozialkompetenz der beteiligten Hunde.  \nDabei sind Hunde hochsoziale Tiere und selbst wenn ein Hund mit Begegnungen aktuell Schwierigkeiten hat: Fast jeder Hund kann lernen mit anderen Hunden so umzugehen\, dass es weder für ihn selbst noch für seine Bezugsperson eine Belastung darstellt.  \nIn diesem Live-Webinar wird es darum gehen\, \n\nwarum die Ursache der Begegnungsproblematik eine entscheidende Rolle spielt.\nwelchen immensen Anteil unsere eigene Haltung in Begegnungssituationen hat und was unser Hund eigentlich von uns braucht.\nwarum Hundebegegnung nicht gleich Hundebegegnung ist und es darum gehen muss\, wie es uns gelingt\, Hunde so selbstwirksam und sozialkompetent zu machen\, dass sie mit den unterschiedlichsten Situationen souverän umgehen können\, unabhängig davon ob eine Leine im Spiel ist oder nicht und ob ein Kontakt stattfindet oder es darum geht entspannt an anderen Hunden vorbeizugehen.\n\n► Interessant für Menschen\, für die Hundebegegnungen ein Stressfaktor sind und Hundetrainer:innen\, die wissen möchten\, was ich meinen Klientinnen vermittle.  \n► Anmeldung unter folgendem Link. \n► Mehrere Termine von Maria Rehberger buchen: \n\n3 oder 4 Termine von Maria buchen und zahlen: 5% Rabatt\n5 Termine von Maria buchen und zahlen: 10% Rabatt\n\nLive-Webinare werden mit Bild und Ton aufgezeichnet. Sie sind mind. 3 Monate nach dem Live-Termin noch buchbar und online verfügbar. Nur in diesem Zeitraum ist die Aufzeichnung nach entsprechender Registrierung abrufbar. Sie kann nicht abgespeichert werden. Sobald du mit Bild und/oder Ton am Live-Termin teilnimmst\, erklärst du dich mit der Aufzeichnung einverstanden. Ein nachträglicher Widerspruch ist nicht möglich. \n\n\n\nMaria Rehberger\, Easy Dogs Tegernsee\n \narbeitet seit 2006 als Verhaltensberaterin\, ist geprüfte CumCane-Trainerin\, Psychologische Beraterin\, Personal Coach\, Fachkraft für Stressmanagement (IHK)\, Trauerbegleiterin für Haustierverlust und Autorin.  \nSie führt südlich von München den Easy Dogs Standort in der Alpenregion Tegernsee/Schliersee und hat sich auf individuelles Coaching für Menschen mit Hund sowie Weiterbildungsangebote für Kolleg:innen spezialisiert.  \nBelohnungsbasiertes Training und der bedürfnis- und bindungsorientierte Umgang mit dem Hund spielen dabei die zentrale Rolle\, egal ob es um die Veränderung oder die Vorbeugung problematischer Verhaltensweisen geht. Maria ist Expertin für entspannte Hundebegegnungen\, insbesondere auch Direktkontakte und Resozialisierung. \n  \nPublikationen\, u.a.\n \nDiverse Artikel in Magazinen wie “Dogs”\, “Der Hund”\, “SitzPlatzFuß”\, u.a.\n2025 erschienen im Kynos Verlag: “Welpen achtsam begleiten”\n2021 erschienen im Animal Learn Verlag: “Hunde achtsam führen”\n2020 neu aufgelegt im Easy Dogs Verlag: “Mantrailing für Familienhunde“\n2017 erschienen im Easy Dogs Verlag: “Gelassenheit im Alltag und beim Training“\n2017 erschienen im Canimos Verlag: “VersteHen\, StaUnen\, TraiNieren\, EntDecken”
URL:https://www.easy-dogs.net/termin/webinar-hundebegegnungen-2025-04/
LOCATION:Online Live Meeting
CATEGORIES:Maria Rehberger
ATTACH;FMTTYPE=image/jpeg:https://www.easy-dogs.net/wp-content/uploads/2026_Maria-Rehberger-Hundebegegnungen-Webinar.jpg
ORGANIZER;CN="Maria Rehberger (Easy Dogs Tegernsee)":MAILTO:Maria.Rehberger@Easy-Dogs.net
END:VEVENT
END:VCALENDAR